BEGIN:VCALENDAR
VERSION:2.0
PRODID:-//The Institute for Fundamental Study - ECPv6.15.20//NONSGML v1.0//EN
CALSCALE:GREGORIAN
METHOD:PUBLISH
X-ORIGINAL-URL:https://www.if.nu.ac.th
X-WR-CALDESC:Events for The Institute for Fundamental Study
REFRESH-INTERVAL;VALUE=DURATION:PT1H
X-Robots-Tag:noindex
X-PUBLISHED-TTL:PT1H
BEGIN:VTIMEZONE
TZID:Asia/Krasnoyarsk
BEGIN:STANDARD
TZOFFSETFROM:+0700
TZOFFSETTO:+0700
TZNAME:+07
DTSTART:20240101T000000
END:STANDARD
END:VTIMEZONE
BEGIN:VEVENT
DTSTART;VALUE=DATE:20250818
DTEND;VALUE=DATE:20250820
DTSTAMP:20260421T111310
CREATED:20250708T085625Z
LAST-MODIFIED:20250708T085625Z
UID:17096-1755475200-1755647999@www.if.nu.ac.th
SUMMARY:Science Week
DESCRIPTION:Test
URL:https://www.if.nu.ac.th/event/science-week/
END:VEVENT
END:VCALENDAR