BEGIN:VCALENDAR
VERSION:2.0
PRODID:-//The Institute for Fundamental Study - ECPv6.15.20//NONSGML v1.0//EN
CALSCALE:GREGORIAN
METHOD:PUBLISH
X-ORIGINAL-URL:https://www.if.nu.ac.th
X-WR-CALDESC:Events for The Institute for Fundamental Study
REFRESH-INTERVAL;VALUE=DURATION:PT1H
X-Robots-Tag:noindex
X-PUBLISHED-TTL:PT1H
BEGIN:VTIMEZONE
TZID:Asia/Krasnoyarsk
BEGIN:STANDARD
TZOFFSETFROM:+0700
TZOFFSETTO:+0700
TZNAME:+07
DTSTART:20240101T000000
END:STANDARD
END:VTIMEZONE
BEGIN:VEVENT
DTSTART;TZID=Asia/Krasnoyarsk:20250926T140000
DTEND;TZID=Asia/Krasnoyarsk:20250926T160000
DTSTAMP:20260421T071146
CREATED:20250926T034733Z
LAST-MODIFIED:20250926T034735Z
UID:18169-1758895200-1758902400@www.if.nu.ac.th
SUMMARY:เสวนาสาธารณะ "GR: From the classical to quantum perspective" - Dirac Medal 2025
DESCRIPTION:Play
URL:https://www.if.nu.ac.th/event/%e0%b9%80%e0%b8%aa%e0%b8%a7%e0%b8%99%e0%b8%b2%e0%b8%aa%e0%b8%b2%e0%b8%98%e0%b8%b2%e0%b8%a3%e0%b8%93%e0%b8%b0-gr-from-the-classical-to-quantum-perspective-dirac-medal-2025/
LOCATION:Academia Room (TA212)\, 2nd Floor\, Mahadhammaraja A Building\, Phitsanulok\, 6500\, Thailand
END:VEVENT
END:VCALENDAR