BEGIN:VCALENDAR
VERSION:2.0
PRODID:-//The Institute for Fundamental Study - ECPv6.15.20//NONSGML v1.0//EN
CALSCALE:GREGORIAN
METHOD:PUBLISH
X-ORIGINAL-URL:https://www.if.nu.ac.th
X-WR-CALDESC:Events for The Institute for Fundamental Study
REFRESH-INTERVAL;VALUE=DURATION:PT1H
X-Robots-Tag:noindex
X-PUBLISHED-TTL:PT1H
BEGIN:VTIMEZONE
TZID:Asia/Krasnoyarsk
BEGIN:STANDARD
TZOFFSETFROM:+0700
TZOFFSETTO:+0700
TZNAME:+07
DTSTART:20240101T000000
END:STANDARD
END:VTIMEZONE
BEGIN:VEVENT
DTSTART;TZID=Asia/Krasnoyarsk:20251031T133000
DTEND;TZID=Asia/Krasnoyarsk:20251031T150000
DTSTAMP:20260420T190439
CREATED:20251024T072103Z
LAST-MODIFIED:20251029T160132Z
UID:18303-1761917400-1761922800@www.if.nu.ac.th
SUMMARY:👻 The Ghost Particle - สิ่งที่ไม่อยาก ให้มีแต่ดันมี
DESCRIPTION:
URL:https://www.if.nu.ac.th/event/%f0%9f%91%bb-the-ghost-particle/
LOCATION:Academia Room (TA212)\, 2nd Floor\, Mahadhammaraja A Building\, Phitsanulok\, 6500\, Thailand
END:VEVENT
END:VCALENDAR