BEGIN:VCALENDAR
VERSION:2.0
PRODID:-//The Institute for Fundamental Study - ECPv6.15.20//NONSGML v1.0//EN
CALSCALE:GREGORIAN
METHOD:PUBLISH
X-ORIGINAL-URL:https://www.if.nu.ac.th
X-WR-CALDESC:Events for The Institute for Fundamental Study
REFRESH-INTERVAL;VALUE=DURATION:PT1H
X-Robots-Tag:noindex
X-PUBLISHED-TTL:PT1H
BEGIN:VTIMEZONE
TZID:Asia/Krasnoyarsk
BEGIN:STANDARD
TZOFFSETFROM:+0700
TZOFFSETTO:+0700
TZNAME:+07
DTSTART:20240101T000000
END:STANDARD
END:VTIMEZONE
BEGIN:VEVENT
DTSTART;TZID=Asia/Krasnoyarsk:20251214T080000
DTEND;TZID=Asia/Krasnoyarsk:20251220T170000
DTSTAMP:20260420T141736
CREATED:20251014T043305Z
LAST-MODIFIED:20251030T024426Z
UID:18282-1765699200-1766250000@www.if.nu.ac.th
SUMMARY:📖 Deep Learning for Physics - DELPHYS 2025
DESCRIPTION:ขอเชิญเข้าร่วมการอบรมปฎิบัติการทางด้าน machine learning deep learning และ การประยุกต์สำหรับฟิสิกส์สำหรับนักศึกษาวิจัยในระดับปริญญาตรีหรือสูงกว่า นักวิจัย อาจารย์ \n\n\n\n หัวข้อการบรรยาย \n\n\n\n– Basic programming in machine learning and deep learning. \n\n\n\n– Supervised machine learning: regression and classification. \n\n\n\n– Unsupervised machine learning. \n\n\n\n– Deep learning: image processing and neural network. \n\n\n\n– Applications in physics: time series data\, cosmology. \n\n\n\n วันที่ 14 – 20 ธันวาคม พ.ศ. 2568
URL:https://www.if.nu.ac.th/event/deep-learning-for-physics-delphys-2025/
LOCATION:ศูนย์สมุททานุภาพ กองทัพเรือ จ.ชลบุรี\, Chonburi\, 20110\, Thailand
ATTACH;FMTTYPE=image/webp:https://www.if.nu.ac.th/wp-content/uploads/2025/10/DELPHYS_A4Landscape_midres.webp
END:VEVENT
BEGIN:VEVENT
DTSTART;TZID=Asia/Krasnoyarsk:20251215T090000
DTEND;TZID=Asia/Krasnoyarsk:20251215T163000
DTSTAMP:20260420T141736
CREATED:20251107T032221Z
LAST-MODIFIED:20251107T032223Z
UID:19473-1765789200-1765816200@www.if.nu.ac.th
SUMMARY:🚌 โครงการ IF Roadshow
DESCRIPTION:
URL:https://www.if.nu.ac.th/event/%f0%9f%9a%8c-%e0%b9%82%e0%b8%84%e0%b8%a3%e0%b8%87%e0%b8%81%e0%b8%b2%e0%b8%a3-if-roadshow/
END:VEVENT
BEGIN:VEVENT
DTSTART;TZID=Asia/Krasnoyarsk:20251215T090000
DTEND;TZID=Asia/Krasnoyarsk:20251219T163000
DTSTAMP:20260420T141736
CREATED:20251107T032037Z
LAST-MODIFIED:20251119T072113Z
UID:19471-1765789200-1766161800@www.if.nu.ac.th
SUMMARY:❄️ โครงการ Winter School TCP\, KMUTT - IF NU
DESCRIPTION:
URL:https://www.if.nu.ac.th/event/%e2%9d%84%ef%b8%8f-%e0%b9%82%e0%b8%84%e0%b8%a3%e0%b8%87%e0%b8%81%e0%b8%b2%e0%b8%a3-winter-school-kmuttxnu-if/
ATTACH;FMTTYPE=image/png:https://www.if.nu.ac.th/wp-content/uploads/2025/11/image.png
END:VEVENT
END:VCALENDAR