BEGIN:VCALENDAR
VERSION:2.0
PRODID:-//The Institute for Fundamental Study - ECPv6.15.20//NONSGML v1.0//EN
CALSCALE:GREGORIAN
METHOD:PUBLISH
X-WR-CALNAME:The Institute for Fundamental Study
X-ORIGINAL-URL:https://www.if.nu.ac.th
X-WR-CALDESC:Events for The Institute for Fundamental Study
REFRESH-INTERVAL;VALUE=DURATION:PT1H
X-Robots-Tag:noindex
X-PUBLISHED-TTL:PT1H
BEGIN:VTIMEZONE
TZID:Asia/Krasnoyarsk
BEGIN:STANDARD
TZOFFSETFROM:+0700
TZOFFSETTO:+0700
TZNAME:+07
DTSTART:20250101T000000
END:STANDARD
END:VTIMEZONE
BEGIN:VEVENT
DTSTART;TZID=Asia/Krasnoyarsk:20260225T090000
DTEND;TZID=Asia/Krasnoyarsk:20260227T163000
DTSTAMP:20260420T055422
CREATED:20260227T032321Z
LAST-MODIFIED:20260206T032339Z
UID:19412-1772010000-1772209800@www.if.nu.ac.th
SUMMARY:📈 โครงการจัดทำแผนปฏิบัติการประจำปี
DESCRIPTION:
URL:https://www.if.nu.ac.th/event/%f0%9f%93%88-%e0%b9%82%e0%b8%84%e0%b8%a3%e0%b8%87%e0%b8%81%e0%b8%b2%e0%b8%a3%e0%b8%88%e0%b8%b1%e0%b8%94%e0%b8%97%e0%b8%b3%e0%b9%81%e0%b8%9c%e0%b8%99%e0%b8%9b%e0%b8%8f%e0%b8%b4%e0%b8%9a%e0%b8%b1/
CATEGORIES:Next Event
END:VEVENT
END:VCALENDAR