BEGIN:VCALENDAR
VERSION:2.0
PRODID:-//The Institute for Fundamental Study - ECPv6.15.20//NONSGML v1.0//EN
CALSCALE:GREGORIAN
METHOD:PUBLISH
X-ORIGINAL-URL:https://www.if.nu.ac.th
X-WR-CALDESC:Events for The Institute for Fundamental Study
REFRESH-INTERVAL;VALUE=DURATION:PT1H
X-Robots-Tag:noindex
X-PUBLISHED-TTL:PT1H
BEGIN:VTIMEZONE
TZID:Asia/Krasnoyarsk
BEGIN:STANDARD
TZOFFSETFROM:+0700
TZOFFSETTO:+0700
TZNAME:+07
DTSTART:20250101T000000
END:STANDARD
END:VTIMEZONE
BEGIN:VEVENT
DTSTART;TZID=Asia/Krasnoyarsk:20260305T133000
DTEND;TZID=Asia/Krasnoyarsk:20260305T140000
DTSTAMP:20260419T225331
CREATED:20260223T042635Z
LAST-MODIFIED:20260223T083648Z
UID:21384-1772717400-1772719200@www.if.nu.ac.th
SUMMARY:📖 No.36 IF Colloquium - Contemporary Paradigm of Public Policy: National Policies as Complex Systems
DESCRIPTION:IF Colloquium ขอเชิญรับฟังการบรรยายพิเศษด้านนโยบายสาธารณะและวิทยาการข้อมูล\n\n\n\nในโลกที่ปัจจัยทางสังคม เศรษฐกิจ และสิ่งแวดล้อมเชื่อมโยงกันอย่างแยกไม่ออก นโยบายสาธารณะจึงไม่ใช่เรื่องเส้นตรง (Linear) อีกต่อไป โดยเฉพาะในประเทศไทยที่มีกฎหมายนับหมื่นฉบับ แผนยุทธศาสตร์นับพัน และคณะกรรมการระดับชาติอีกหลายร้อยชุด ความซับซ้อนนี้ส่งผลให้การแก้ปัญหาแบบเดิมอาจไม่ตอบโจทย์อีกต่อไป \n\n\n\n\n\n🎙️ วิทยากรพิเศษ (Special Guest Speaker)\n\n\n\n\nคุณกฤตพัฒน์ รัตนภูผา (Kittapat Ratanaphupha)นักวิเคราะห์นโยบายและแผน สถาบันข้อมูลขนาดใหญ่ (องค์การมหาชน) – Big Data Institute (BDI)\n\n\n\n\n✨ ไฮไลท์สำคัญภายในงาน (Event Highlights)\n\n\n\n\nPolicy Clustering & Causal Networks: การจัดกลุ่มนโยบายและโครงข่ายเหตุผลเพื่อเป้าหมายการพัฒนาที่ยั่งยืน (SDGs 17.14)\n\n\n\nNational Digital Twin: การใช้ข้อมูลระดับจุลภาคสร้าง “คู่เสมือนดิจิทัล” เพื่อจำลองผลกระทบของนโยบายก่อนนำไปใช้จริง\n\n\n\nMacroscopic Policy Mapping: การสร้างแผนที่นำทางระดับมหภาค เพื่อลดช่องว่างข้อมูลระหว่างหน่วยงานรัฐ\n\n\n\n\n\n\n📅 รายละเอียดวันและเวลา\n\n\n\n\nวันศุกร์ที่ 5 มีนาคม 2569\n\n\n\nเวลา: 13.30 น. เป็นต้นไป\n\n\n\nสถานที่: ห้อง TA 212 (Academia Room) วิทยาลัยเพื่อการค้นคว้าระดับรากฐาน (IF) มหาวิทยาลัยนเรศวร\n\n\n\n\n\n \n\n\n\n\n\n\n\n\n\n    \n    \n\n    \n        \n        📌\n        \n            IF – Naresuan University\n            Tha Pho\, Phitsanulok\n            Click to open Maps ↗\n        \n    \n\n\n\n\n\n\n\n\n\n\n\n\n\nIFNU #BDI #BigData #PublicPolicy #ComplexSystems #DataDriven #นโยบายสาธารณะ
URL:https://www.if.nu.ac.th/event/%f0%9f%93%96-no-36-if-colloquium-contemporary-paradigm-of-public-policy-national-policies-as-complex-systems/
END:VEVENT
END:VCALENDAR