BEGIN:VCALENDAR
VERSION:2.0
PRODID:-//The Institute for Fundamental Study - ECPv6.15.20//NONSGML v1.0//EN
CALSCALE:GREGORIAN
METHOD:PUBLISH
X-WR-CALNAME:The Institute for Fundamental Study
X-ORIGINAL-URL:https://www.if.nu.ac.th
X-WR-CALDESC:Events for The Institute for Fundamental Study
REFRESH-INTERVAL;VALUE=DURATION:PT1H
X-Robots-Tag:noindex
X-PUBLISHED-TTL:PT1H
BEGIN:VTIMEZONE
TZID:Asia/Krasnoyarsk
BEGIN:STANDARD
TZOFFSETFROM:+0700
TZOFFSETTO:+0700
TZNAME:+07
DTSTART:20250101T000000
END:STANDARD
END:VTIMEZONE
BEGIN:VEVENT
DTSTART;TZID=Asia/Krasnoyarsk:20260525T090000
DTEND;TZID=Asia/Krasnoyarsk:20260605T163000
DTSTAMP:20260419T225203
CREATED:20251107T022945Z
LAST-MODIFIED:20260410T091548Z
UID:19439-1779699600-1780677000@www.if.nu.ac.th
SUMMARY:🏖️ โครงการ IF Summer Shool 2026
DESCRIPTION:ค่ายฟิสิกส์ทฤษฎี\n\n\n\nวิทยาลัยเพื่อการค้นคว้าระดับรากฐาน (IF) มหาวิทยาลัยนเรศวร ขอเชิญชวนนิสิตนักศึกษาที่สนใจด้านฟิสิกส์ขั้นสูง 🔭 เจาะลึกฟิสิกส์แห่งอนาคตโครงการนี้เน้นการปูพื้นฐานในสาขาที่กำลังได้รับความสนใจทั่วโลก ซึ่งเป็นฟันเฟื่องสำคัญในการพัฒนาเทคโนโลยี: \n\n\n\n\n🌌 Cosmology (จักรวาลวิทยา)\n\n\n\n🕳️ General Relativity & Black Holes (ทฤษฎีสัมพัทธภาพทั่วไปและหลุมดำ)\n\n\n\n⚛️ High Energy Physics (ฟิสิกส์พลังงานสูง)\n\n\n\n💻 Quantum Technology (ควอนตัมเทคโนโลยี)\n\n\n\n\nhttps://indico.global/event/17438/ \n\n\n\n\nSchedule\n\n\n\n  All School\n\n\n\n\n\n\n\n\n\n\n\n\n\n\n\n\n\n\n📅 รายละเอียดวันและเวลา\n\n\n\n \n\n\n\n \n\n\n\n\n\n\nวันจัดค่าย: 25 พฤษภาคม – 5 มิถุนายน 2569\n\n\n\nสถานที่: ห้อง TA 212 (Academia Room) วิทยาลัยเพื่อการค้นคว้าระดับรากฐาน (IF) มหาวิทยาลัยนเรศวร\n\n\n\nประกาศรายชื่อ:  (โปรดติดตามรายละเอียดเพิ่มเติมได้ที่ IF -Facebook) จำนวน 20 ท่าน จะประกาศรายชื่อเพื่อยืนยันสิทธิ์ภายหลัง\n\n\n\n\n\n\n\n\n\n\n\n\n📝 เงื่อนไขการสมัครและค่าใช้จ่าย (Registration & Fees)\n\n\n\n\n\nค่าลงทะเบียน: ฟรี! (ไม่มีค่าใช้จ่ายในการเข้าร่วมกิจกรรม)ค่าเดินทาง: ผู้เข้าร่วมต้องรับผิดชอบค่าใช้จ่ายในการเดินทางด้วยตนเองหากเข้าร่วมโครงการอาจมีการบันทึกภาพและวิดีโอ เพื่อนำไปใช้ประกอบการจัดทำสื่อประชาสัมพันธ์และรายงานผลการดำเนินงานของหน่วยงานผ่านช่องทางต่าง ๆ \n\n\n\n(หลังจากประกาศผล)ที่พัก: * มีบริการหอพักนิสิต มหาวิทยาลัยนเรศวร (สำหรับผู้ที่ต้องการ)โดยพักในคืนวันที่ 25 พฤษภาคม ถึงคืนวันที่ 4 มิถุนายนเพื่อยืนยันสิทธิ์การจองต้องโอนเงินยอดรวมทั้งหมด ( 2\,750 บาทต่อคน )จากอัตราค่าบริการประมาณ 250 บาท/คืน/คน \n\n\n\nรูปแบบการพัก: พักร่วมกับผู้เข้าร่วมท่านอื่น (2 คนต่อห้อง แยกชาย-หญิง) \n\n\n\n\n\n \n\n\n\nลงทะเบียนยืนยันสิทธิ์ (หลังจากประกาศผล)\n\nLoading…\n\n\n\n\n\n(หลังจากประกาศผล)ที่พัก: * มีบริการหอพักนิสิต มหาวิทยาลัยนเรศวร (สำหรับผู้ที่ต้องการ)โดยพักในคืนวันที่ 25 พฤษภาคม ถึงคืนวันที่ 4 มิถุนายนเพื่อยืนยันสิทธิ์การจองต้องโอนเงินยอดรวมทั้งหมด ( 2\,750 บาทต่อคน )จากอัตราค่าบริการประมาณ 250 บาท/คืน/คน \n\n\n\n \n\n\n\nค่าลงทะเบียน: ฟรี! (ไม่มีค่าใช้จ่ายในการเข้าร่วมกิจกรรม)ค่าเดินทาง: ผู้เข้าร่วมต้องรับผิดชอบค่าใช้จ่ายในการเดินทางด้วยตนเอง \n\n\n\n\n\nEnglish Version\n🧢 2026 IF Summer School: Theoretical Physics Camp\n\n\n\nThe Institute for Fundamental Study (IF)\, Naresuan University invites undergraduate students to join our intensive summer program designed to bridge the gap between basic science and the frontier of global research. \n\n\n\n📅 Key Dates & Location\n\n\n\n\nProgram Dates: May 25 – June 5\, 2026\n\n\n\nVenue: The Institute for Fundamental Study (IF)\, Naresuan University\n\n\n\nAnnouncements: Stay updated on application results via [IF – Facebook Page]\n\n\n\n\n🔭 Explore the Frontiers of Physics\n\n\n\nTheoretical Physics is the engine driving the next generation of engineering and technology. This camp focuses on high-impact fields currently captivating physicists worldwide: \n\n\n\n\n🌌 Cosmology\n\n\n\n🕳️ General Relativity & Black Holes\n\n\n\n⚛️ High Energy Physics\n\n\n\n💻 Quantum Technology\n\n\n\n\n🎯 Program Objectives\n\n\n\n\nPreparation: To provide a solid foundation in theoretical physics for seniors preparing for Master’s level studies.\n\n\n\nRecruitment: To identify and recruit high-potential students for graduate programs at the Institute for Fundamental Study.\n\n\n\nPromotion: To foster and disseminate advanced physics knowledge among students across the country.\n\n\n\n\n📢 Stay Informed\n\n\n\nBe sure to follow our official channels for application links and deadline updates. We look forward to welcoming the next generation of theoretical physicists to Naresuan University! \n\n\n\n\n\n\n\n\n\n\n\n    \n    \n\n    \n        \n        📌\n        \n            IF – Naresuan University\n            Tha Pho\, Phitsanulok\n            Click to open Maps ↗\n        \n    \n\n\n\n\n\n\n\n\n\n#IFNU #Physics  #NaresuanUniversity #วิทยาศาสตร์ #ฟิสิกส์
URL:https://www.if.nu.ac.th/event/%f0%9f%8f%96%ef%b8%8f-%e0%b9%82%e0%b8%84%e0%b8%a3%e0%b8%87%e0%b8%81%e0%b8%b2%e0%b8%a3-if-summer-shool/
CATEGORIES:Next Event
ATTACH;FMTTYPE=image/webp:https://www.if.nu.ac.th/wp-content/uploads/2026/03/26SummerSchool.webp
END:VEVENT
END:VCALENDAR