BEGIN:VCALENDAR
VERSION:2.0
PRODID:-//The Institute for Fundamental Study - ECPv6.15.20//NONSGML v1.0//EN
CALSCALE:GREGORIAN
METHOD:PUBLISH
X-WR-CALNAME:The Institute for Fundamental Study
X-ORIGINAL-URL:https://www.if.nu.ac.th
X-WR-CALDESC:Events for The Institute for Fundamental Study
REFRESH-INTERVAL;VALUE=DURATION:PT1H
X-Robots-Tag:noindex
X-PUBLISHED-TTL:PT1H
BEGIN:VTIMEZONE
TZID:Asia/Krasnoyarsk
BEGIN:STANDARD
TZOFFSETFROM:+0700
TZOFFSETTO:+0700
TZNAME:+07
DTSTART:20240101T000000
END:STANDARD
END:VTIMEZONE
BEGIN:VEVENT
DTSTART;TZID=Asia/Krasnoyarsk:20260328T090000
DTEND;TZID=Asia/Krasnoyarsk:20260329T163000
DTSTAMP:20260420T114537
CREATED:20251107T021910Z
LAST-MODIFIED:20260205T074818Z
UID:19431-1774688400-1774801800@www.if.nu.ac.th
SUMMARY:🧑‍🏫 โครงการอบรมครูฟิสิกส์
DESCRIPTION:
URL:https://www.if.nu.ac.th/event/%f0%9f%a7%91%f0%9f%8f%ab-%e0%b9%82%e0%b8%84%e0%b8%a3%e0%b8%87%e0%b8%81%e0%b8%b2%e0%b8%a3%e0%b8%ad%e0%b8%9a%e0%b8%a3%e0%b8%a1%e0%b8%84%e0%b8%a3%e0%b8%b9%e0%b8%9f%e0%b8%b4%e0%b8%aa%e0%b8%b4/
CATEGORIES:Next Event
END:VEVENT
BEGIN:VEVENT
DTSTART;TZID=Asia/Krasnoyarsk:20260313T150000
DTEND;TZID=Asia/Krasnoyarsk:20260313T163000
DTSTAMP:20260420T114537
CREATED:20251106T081955Z
LAST-MODIFIED:20260226T042453Z
UID:19418-1773414000-1773419400@www.if.nu.ac.th
SUMMARY:🧹 โครงการ 5 ส
DESCRIPTION:
URL:https://www.if.nu.ac.th/event/%f0%9f%a7%b9-%e0%b9%82%e0%b8%84%e0%b8%a3%e0%b8%87%e0%b8%81%e0%b8%b2%e0%b8%a3-5-%e0%b8%aa/
CATEGORIES:Next Event
END:VEVENT
BEGIN:VEVENT
DTSTART;TZID=Asia/Krasnoyarsk:20260313T103000
DTEND;TZID=Asia/Krasnoyarsk:20260313T163000
DTSTAMP:20260420T114537
CREATED:20251106T082455Z
LAST-MODIFIED:20260316T070149Z
UID:19422-1773397800-1773419400@www.if.nu.ac.th
SUMMARY:📝 โครงการ IF Inaugural
DESCRIPTION:🌌 100 ปีสมการชโรดิงเจอร์: จากลูกตุ้มกาลิเลโอสู่ควอนตัมเปลี่ยนโลก!\n\n\n\nIF NU ขอเชิญร่วมงานบรรยายสาธารณะวาระพิเศษ IF Inaugural Lecture \n\n\n\nคุณเคยสงสัยไหมว่า… จากเพียงแค่การแกว่งของลูกตุ้มในสมัยกาลิเลโอ นำมาสู่เทคโนโลยีคอมพิวเตอร์ควอนตัมที่กำลังจะเปลี่ยนโลกในปัจจุบันได้อย่างไร? \n\n\n\nในปี 2026 นี้ ถือเป็นวาระครบรอบ 100 ปีของสมการชโรดิงเจอร์ (Schrödinger Equation) สมการที่เป็นรากฐานสำคัญที่สุดของฟิสิกส์ควอนตัม วิทยาลัยเพื่อการค้นคว้าระดับรากฐาน (IF) มหาวิทยาลัยนเรศวร จึงขอเชิญทุกท่านมาร่วมแกะรอยประวัติศาสตร์ฟิสิกส์ 400 ปี และอัปเดตเทคโนโลยีแห่งอนาคตในมุมมองที่ “เข้าใจง่าย” สำหรับทุกคน! \n\n\n\n\n\n🎙️ วิทยากรพิเศษ (Special Guest Speaker)\n\n\n\n\nรศ. ดร. ทีปานิส ชาชิโย\n\nอาจารย์ประจำภาควิชาฟิสิกส์ คณะวิทยาศาสตร์ มหาวิทยาลัยนเรศวร\n\n\n\n\n\n\n✨ ไฮไลท์สำคัญภายในงาน (Event Highlights)\n\n\n\n\nPublic Panel: เจาะลึกความลับจักรวาล เดินทางข้ามเวลาจากยุคการทดลองลูกตุ้มของกาลิเลโอ สู่โลกของ Superconducting Qubit\n\n\n\nDiscussion: ล้อมวงคุย ถาม-ตอบกับเหล่านักฟิสิกส์แบบเป็นกันเอง ไม่ต้องกลัวงง เพราะเราเน้นภาษาง่ายๆ\n\n\n\nNetworking: พื้นที่แลกเปลี่ยนมุมมอง เปิดโลกทัศน์ทางวิทยาศาสตร์กับผู้เชี่ยวชาญและผู้ที่สนใจในเรื่องเดียวกัน\n\n\n\n\n\n\n📅 รายละเอียดวันและเวลา\n\n\n\n\nวันศุกร์ที่ 13 มีนาคม 2569\n\n\n\nเวลา: 10.30 น. เป็นต้นไป\n\n\n\nสถานที่: ห้อง TA 212 (Academia Room) วิทยาลัยเพื่อการค้นคว้าระดับรากฐาน (IF) มหาวิทยาลัยนเรศวร\n\n\n\n\n\n\n\n\n\n\n\n\nลงทะเบียน\n\n\n\n\nhttps://shorturl.nu.ac.th/7ny989 \n\n\n\n\n\n“ไม่ว่าคุณจะเป็นนิสิต นักวิจัย หรือบุคคลทั่วไปที่มีหัวใจรักวิทยาศาสตร์ งานนี้จะเปลี่ยนวิธีที่คุณมองโลกไปตลอดกาล” \n\n\n\n\n\n\n\n    \n    \n\n    \n        \n        📌\n        \n            IF – Naresuan University\n            Tha Pho\, Phitsanulok\n            Click to open Maps ↗\n        \n    \n\n\n\n\n\n\n\n\n\n \n\n\n\n⭐ Feedback ประเมินกิจกรรม✍🏻  Register ลงทะเบียน
URL:https://www.if.nu.ac.th/event/%f0%9f%93%9d-%e0%b9%82%e0%b8%84%e0%b8%a3%e0%b8%87%e0%b8%81%e0%b8%b2%e0%b8%a3-if-inaugural/
CATEGORIES:Next Event
END:VEVENT
BEGIN:VEVENT
DTSTART;TZID=Asia/Krasnoyarsk:20260313T090000
DTEND;TZID=Asia/Krasnoyarsk:20260313T163000
DTSTAMP:20260420T114537
CREATED:20251107T021358Z
LAST-MODIFIED:20260312T071049Z
UID:19427-1773392400-1773419400@www.if.nu.ac.th
SUMMARY:👩‍🎓 โครงการพิธีประสาทคุณวุฒิ
DESCRIPTION:ลงทะเบียน\n\n\n\n\nhttps://shorturl.nu.ac.th/7ny989 \n\n\n\n\n\n\n\n\n📅 รายละเอียดวันและเวลา\n\n\n\n\nวันศุกร์ที่ 13 มีนาคม 2569\n\n\n\nสถานที่: ห้อง TA 212 (Academia Room) วิทยาลัยเพื่อการค้นคว้าระดับรากฐาน (IF) มหาวิทยาลัยนเรศวร\n\n\n\n\n\n Big Congrats! วันแห่งความสำเร็จ The 22nd Congregation  “ก้าวที่สำคัญของนิสิตใหม่ และความภาคภูมิใจของบัณฑิตป้ายแดง”  ใครว่างแวะมาหา มา Congrats กันได้ตลอดทั้งเช้านะ อยากเจอทุกคนเลย!  \n\n\n\n\n\n\n\n\n\n    \n    \n\n    \n        \n        📌\n        \n            IF – Naresuan University\n            Tha Pho\, Phitsanulok\n            Click to open Maps ↗\n        \n    \n\n\n\n\n\n\n\n\n\n \n\n\n\n✍🏻  Register ลงทะเบียน⭐ Feedback ประเมินกิจกรรม\n\nLoading…
URL:https://www.if.nu.ac.th/event/%f0%9f%91%a9%f0%9f%8e%93-%e0%b9%82%e0%b8%84%e0%b8%a3%e0%b8%87%e0%b8%81%e0%b8%b2%e0%b8%a3%e0%b8%9e%e0%b8%b4%e0%b8%98%e0%b8%b5%e0%b8%9b%e0%b8%a3%e0%b8%b0%e0%b8%aa%e0%b8%b2%e0%b8%97%e0%b8%84/
CATEGORIES:Next Event
END:VEVENT
BEGIN:VEVENT
DTSTART;TZID=Asia/Krasnoyarsk:20260312T133000
DTEND;TZID=Asia/Krasnoyarsk:20260312T140000
DTSTAMP:20260420T114537
CREATED:20260311T080832Z
LAST-MODIFIED:20260311T081148Z
UID:21452-1773322200-1773324000@www.if.nu.ac.th
SUMMARY:🔹 Tah Poe seminar series LIX(59) Talk no.4
DESCRIPTION:Speaker: Peerawat Sriling \n\n\n\nTitle:  Higher-Derivative Corrections to Entropy and the WGC in AdS Space \n\n\n\nAbstract: The four-derivative corrections to the geometry\, extremality bound\, and thermodynamic quantities of AdS-Reissner-Nordstrom black holes for general dimensions and horizon geometries have been computed. One can confirm the universal relationship between the extremality shift at fixed charge and the shift of the microcanonical entropy\, and discuss the consequences of this relation for the Weak Gravity Conjecture in AdS. \n\n\n\nสถานที่: ห้อง TA 212 (Academia Room) อาคารมหาธรรมราชา A วิทยาลัยเพื่อการค้นคว้าระดับรากฐาน (IF) มหาวิทยาลัยนเรศวร \n\n\n\n\n\n\n\n\n    \n    \n\n    \n        \n        📌\n        \n            IF – Naresuan University\n            Tha Pho\, Phitsanulok\n            Click to open Maps ↗
URL:https://www.if.nu.ac.th/event/%f0%9f%94%b9-tah-poe-seminar-series-lix59-talk-no-4/
END:VEVENT
BEGIN:VEVENT
DTSTART;TZID=Asia/Krasnoyarsk:20260305T133000
DTEND;TZID=Asia/Krasnoyarsk:20260305T140000
DTSTAMP:20260420T114537
CREATED:20260223T042635Z
LAST-MODIFIED:20260223T083648Z
UID:21384-1772717400-1772719200@www.if.nu.ac.th
SUMMARY:📖 No.36 IF Colloquium - Contemporary Paradigm of Public Policy: National Policies as Complex Systems
DESCRIPTION:IF Colloquium ขอเชิญรับฟังการบรรยายพิเศษด้านนโยบายสาธารณะและวิทยาการข้อมูล\n\n\n\nในโลกที่ปัจจัยทางสังคม เศรษฐกิจ และสิ่งแวดล้อมเชื่อมโยงกันอย่างแยกไม่ออก นโยบายสาธารณะจึงไม่ใช่เรื่องเส้นตรง (Linear) อีกต่อไป โดยเฉพาะในประเทศไทยที่มีกฎหมายนับหมื่นฉบับ แผนยุทธศาสตร์นับพัน และคณะกรรมการระดับชาติอีกหลายร้อยชุด ความซับซ้อนนี้ส่งผลให้การแก้ปัญหาแบบเดิมอาจไม่ตอบโจทย์อีกต่อไป \n\n\n\n\n\n🎙️ วิทยากรพิเศษ (Special Guest Speaker)\n\n\n\n\nคุณกฤตพัฒน์ รัตนภูผา (Kittapat Ratanaphupha)นักวิเคราะห์นโยบายและแผน สถาบันข้อมูลขนาดใหญ่ (องค์การมหาชน) – Big Data Institute (BDI)\n\n\n\n\n✨ ไฮไลท์สำคัญภายในงาน (Event Highlights)\n\n\n\n\nPolicy Clustering & Causal Networks: การจัดกลุ่มนโยบายและโครงข่ายเหตุผลเพื่อเป้าหมายการพัฒนาที่ยั่งยืน (SDGs 17.14)\n\n\n\nNational Digital Twin: การใช้ข้อมูลระดับจุลภาคสร้าง “คู่เสมือนดิจิทัล” เพื่อจำลองผลกระทบของนโยบายก่อนนำไปใช้จริง\n\n\n\nMacroscopic Policy Mapping: การสร้างแผนที่นำทางระดับมหภาค เพื่อลดช่องว่างข้อมูลระหว่างหน่วยงานรัฐ\n\n\n\n\n\n\n📅 รายละเอียดวันและเวลา\n\n\n\n\nวันศุกร์ที่ 5 มีนาคม 2569\n\n\n\nเวลา: 13.30 น. เป็นต้นไป\n\n\n\nสถานที่: ห้อง TA 212 (Academia Room) วิทยาลัยเพื่อการค้นคว้าระดับรากฐาน (IF) มหาวิทยาลัยนเรศวร\n\n\n\n\n\n \n\n\n\n\n\n\n\n\n\n    \n    \n\n    \n        \n        📌\n        \n            IF – Naresuan University\n            Tha Pho\, Phitsanulok\n            Click to open Maps ↗\n        \n    \n\n\n\n\n\n\n\n\n\n\n\n\n\nIFNU #BDI #BigData #PublicPolicy #ComplexSystems #DataDriven #นโยบายสาธารณะ
URL:https://www.if.nu.ac.th/event/%f0%9f%93%96-no-36-if-colloquium-contemporary-paradigm-of-public-policy-national-policies-as-complex-systems/
END:VEVENT
BEGIN:VEVENT
DTSTART;TZID=Asia/Krasnoyarsk:20260227T133000
DTEND;TZID=Asia/Krasnoyarsk:20260227T140000
DTSTAMP:20260420T114537
CREATED:20260223T033149Z
LAST-MODIFIED:20260223T042958Z
UID:21365-1772199000-1772200800@www.if.nu.ac.th
SUMMARY:🔹 Tah Poe seminar series LIX(59) Talk no.3
DESCRIPTION:Speaker: Laphas Premcharoen \n\n\n\nTitle:  GEO: Enhancing Combinatorial Optimization with Classical and Quantum Generative Models \n\n\n\nAbstract: Combinatorial optimization is a leading candidate for practical quantum advantage\, yet current quantum optimization strategies frequently require translating real-world problems into Polynomial Unconstrained Binary Optimization (PUBO) expressions\, which introduces significant variable overhead. This seminar introduces the Generator-Enhanced Optimization (GEO) framework\, a novel “black-box” solver that bypasses this limitation by leveraging the generalization capabilities of machine learning generative models. We will specifically examine TN-GEO\, a quantum-inspired instantiation using Matrix Product States. The session will cover TN-GEO’s application to an NP-hard cardinality-constrained portfolio optimization problem\, demonstrating how it outperforms traditional classical solvers and competes with state-of-the-art metaheuristics by generating highly valuable\, previously “unseen” solution candidates.
URL:https://www.if.nu.ac.th/event/%f0%9f%94%b9-tah-poe-seminar-series-lix59-talk-no-3/
END:VEVENT
BEGIN:VEVENT
DTSTART;TZID=Asia/Krasnoyarsk:20260225T090000
DTEND;TZID=Asia/Krasnoyarsk:20260227T163000
DTSTAMP:20260420T114537
CREATED:20260227T032321Z
LAST-MODIFIED:20260206T032339Z
UID:19412-1772010000-1772209800@www.if.nu.ac.th
SUMMARY:📈 โครงการจัดทำแผนปฏิบัติการประจำปี
DESCRIPTION:
URL:https://www.if.nu.ac.th/event/%f0%9f%93%88-%e0%b9%82%e0%b8%84%e0%b8%a3%e0%b8%87%e0%b8%81%e0%b8%b2%e0%b8%a3%e0%b8%88%e0%b8%b1%e0%b8%94%e0%b8%97%e0%b8%b3%e0%b9%81%e0%b8%9c%e0%b8%99%e0%b8%9b%e0%b8%8f%e0%b8%b4%e0%b8%9a%e0%b8%b1/
CATEGORIES:Next Event
END:VEVENT
BEGIN:VEVENT
DTSTART;TZID=Asia/Krasnoyarsk:20260123T090000
DTEND;TZID=Asia/Krasnoyarsk:20260123T163000
DTSTAMP:20260420T114537
CREATED:20251106T080029Z
LAST-MODIFIED:20260205T074820Z
UID:19406-1769158800-1769185800@www.if.nu.ac.th
SUMMARY:🧪 โครงการสถานีฟิสิกส์ศึกษา-ชวนน้องทดลองวิทย์
DESCRIPTION:
URL:https://www.if.nu.ac.th/event/%f0%9f%a7%aa-%e0%b8%ad%e0%b8%b4%e0%b9%82%e0%b8%a1%e0%b8%88%e0%b8%b4%e0%b8%97%e0%b8%b5%e0%b9%88%e0%b9%80%e0%b8%ab%e0%b8%a1%e0%b8%b2%e0%b8%81%e0%b8%b1%e0%b8%9a%e0%b8%ad%e0%b8%b1%e0%b8%99%e0%b8%99/
CATEGORIES:Next Event
END:VEVENT
BEGIN:VEVENT
DTSTART;TZID=Asia/Krasnoyarsk:20260110T090000
DTEND;TZID=Asia/Krasnoyarsk:20260110T163000
DTSTAMP:20260420T114537
CREATED:20251106T075658Z
LAST-MODIFIED:20251226T070117Z
UID:19403-1768035600-1768062600@www.if.nu.ac.th
SUMMARY:🔭 โครงการ Astro Night
DESCRIPTION:
URL:https://www.if.nu.ac.th/event/%f0%9f%8c%8c%f0%9f%94%ad-%e0%b9%82%e0%b8%84%e0%b8%a3%e0%b8%87%e0%b8%81%e0%b8%b2%e0%b8%a3-astro-night/
END:VEVENT
BEGIN:VEVENT
DTSTART;TZID=Asia/Krasnoyarsk:20251225T090000
DTEND;TZID=Asia/Krasnoyarsk:20251225T163000
DTSTAMP:20260420T114537
CREATED:20251106T075409Z
LAST-MODIFIED:20251106T075412Z
UID:19401-1766653200-1766680200@www.if.nu.ac.th
SUMMARY:🎅 IF X'mas & New Year Party
DESCRIPTION:
URL:https://www.if.nu.ac.th/event/%f0%9f%8e%85-if-xmas-new-year-party/
END:VEVENT
BEGIN:VEVENT
DTSTART;TZID=Asia/Krasnoyarsk:20251215T090000
DTEND;TZID=Asia/Krasnoyarsk:20251219T163000
DTSTAMP:20260420T114537
CREATED:20251107T032037Z
LAST-MODIFIED:20251119T072113Z
UID:19471-1765789200-1766161800@www.if.nu.ac.th
SUMMARY:❄️ โครงการ Winter School TCP\, KMUTT - IF NU
DESCRIPTION:
URL:https://www.if.nu.ac.th/event/%e2%9d%84%ef%b8%8f-%e0%b9%82%e0%b8%84%e0%b8%a3%e0%b8%87%e0%b8%81%e0%b8%b2%e0%b8%a3-winter-school-kmuttxnu-if/
ATTACH;FMTTYPE=image/png:https://www.if.nu.ac.th/wp-content/uploads/2025/11/image.png
END:VEVENT
BEGIN:VEVENT
DTSTART;TZID=Asia/Krasnoyarsk:20251215T090000
DTEND;TZID=Asia/Krasnoyarsk:20251215T163000
DTSTAMP:20260420T114537
CREATED:20251107T032221Z
LAST-MODIFIED:20251107T032223Z
UID:19473-1765789200-1765816200@www.if.nu.ac.th
SUMMARY:🚌 โครงการ IF Roadshow
DESCRIPTION:
URL:https://www.if.nu.ac.th/event/%f0%9f%9a%8c-%e0%b9%82%e0%b8%84%e0%b8%a3%e0%b8%87%e0%b8%81%e0%b8%b2%e0%b8%a3-if-roadshow/
END:VEVENT
BEGIN:VEVENT
DTSTART;TZID=Asia/Krasnoyarsk:20251214T080000
DTEND;TZID=Asia/Krasnoyarsk:20251220T170000
DTSTAMP:20260420T114537
CREATED:20251014T043305Z
LAST-MODIFIED:20251030T024426Z
UID:18282-1765699200-1766250000@www.if.nu.ac.th
SUMMARY:📖 Deep Learning for Physics - DELPHYS 2025
DESCRIPTION:ขอเชิญเข้าร่วมการอบรมปฎิบัติการทางด้าน machine learning deep learning และ การประยุกต์สำหรับฟิสิกส์สำหรับนักศึกษาวิจัยในระดับปริญญาตรีหรือสูงกว่า นักวิจัย อาจารย์ \n\n\n\n หัวข้อการบรรยาย \n\n\n\n– Basic programming in machine learning and deep learning. \n\n\n\n– Supervised machine learning: regression and classification. \n\n\n\n– Unsupervised machine learning. \n\n\n\n– Deep learning: image processing and neural network. \n\n\n\n– Applications in physics: time series data\, cosmology. \n\n\n\n วันที่ 14 – 20 ธันวาคม พ.ศ. 2568
URL:https://www.if.nu.ac.th/event/deep-learning-for-physics-delphys-2025/
LOCATION:ศูนย์สมุททานุภาพ กองทัพเรือ จ.ชลบุรี\, Chonburi\, 20110\, Thailand
ATTACH;FMTTYPE=image/webp:https://www.if.nu.ac.th/wp-content/uploads/2025/10/DELPHYS_A4Landscape_midres.webp
END:VEVENT
BEGIN:VEVENT
DTSTART;TZID=Asia/Krasnoyarsk:20251209T133000
DTEND;TZID=Asia/Krasnoyarsk:20251209T160000
DTSTAMP:20260420T114537
CREATED:20251030T022034Z
LAST-MODIFIED:20251127T050345Z
UID:18973-1765287000-1765296000@www.if.nu.ac.th
SUMMARY:⚛️ Quantum ที่ไม่เล็กอีกต่อไป!
DESCRIPTION:
URL:https://www.if.nu.ac.th/event/quantum-%e0%b8%97%e0%b8%b5%e0%b9%88%e0%b9%84%e0%b8%a1%e0%b9%88%e0%b9%80%e0%b8%a5%e0%b9%87%e0%b8%81%e0%b8%ad%e0%b8%b5%e0%b8%81%e0%b8%95%e0%b9%88%e0%b8%ad%e0%b9%84%e0%b8%9b/
LOCATION:QS Theater – โรงละครเฉลิมพระเกียรติ
END:VEVENT
BEGIN:VEVENT
DTSTART;TZID=Asia/Krasnoyarsk:20251128T133000
DTEND;TZID=Asia/Krasnoyarsk:20251128T153000
DTSTAMP:20260420T114537
CREATED:20251124T071403Z
LAST-MODIFIED:20251126T082846Z
UID:19685-1764336600-1764343800@www.if.nu.ac.th
SUMMARY:📖 Tah Poe Seminar - Series 58 No.7
DESCRIPTION:Duality-symmetric D3-brane action with twisted self-dual 2-form doublet
URL:https://www.if.nu.ac.th/event/%f0%9f%93%96-tah-poe-seminar-series-58-no-6/
END:VEVENT
BEGIN:VEVENT
DTSTART;TZID=Asia/Krasnoyarsk:20251114T090000
DTEND;TZID=Asia/Krasnoyarsk:20251114T163000
DTSTAMP:20260420T114537
CREATED:20251106T073522Z
LAST-MODIFIED:20251106T073558Z
UID:19388-1763110800-1763137800@www.if.nu.ac.th
SUMMARY:🏆 โครงการประกันคุณภาพ ระดับคณะ/วิทยาลัย EdPEx
DESCRIPTION:
URL:https://www.if.nu.ac.th/event/%f0%9f%8f%86%e0%b9%82%e0%b8%84%e0%b8%a3%e0%b8%87%e0%b8%81%e0%b8%b2%e0%b8%a3%e0%b8%9b%e0%b8%a3%e0%b8%b0%e0%b8%81%e0%b8%b1%e0%b8%99%e0%b8%84%e0%b8%b8%e0%b8%93%e0%b8%a0%e0%b8%b2%e0%b8%9e-%e0%b8%a3/
END:VEVENT
BEGIN:VEVENT
DTSTART;TZID=Asia/Krasnoyarsk:20251031T133000
DTEND;TZID=Asia/Krasnoyarsk:20251031T150000
DTSTAMP:20260420T114537
CREATED:20251024T072103Z
LAST-MODIFIED:20251029T160132Z
UID:18303-1761917400-1761922800@www.if.nu.ac.th
SUMMARY:👻 The Ghost Particle - สิ่งที่ไม่อยาก ให้มีแต่ดันมี
DESCRIPTION:
URL:https://www.if.nu.ac.th/event/%f0%9f%91%bb-the-ghost-particle/
LOCATION:Academia Room (TA212)\, 2nd Floor\, Mahadhammaraja A Building\, Phitsanulok\, 6500\, Thailand
END:VEVENT
BEGIN:VEVENT
DTSTART;TZID=Asia/Krasnoyarsk:20251003T133000
DTEND;TZID=Asia/Krasnoyarsk:20251003T143000
DTSTAMP:20260420T114537
CREATED:20250930T031351Z
LAST-MODIFIED:20250930T031525Z
UID:18176-1759498200-1759501800@www.if.nu.ac.th
SUMMARY:Tah Poe Seminar - Series 58 No.5
DESCRIPTION:From Newton to Einstein: Statistical Origins of the Relativistic Lagrangian and Hamiltonian
URL:https://www.if.nu.ac.th/event/tah-poe-seminar-series-58-no-5/
LOCATION:Academia Room (TA212)\, 2nd Floor\, Mahadhammaraja A Building\, Phitsanulok\, 6500\, Thailand
END:VEVENT
BEGIN:VEVENT
DTSTART;TZID=Asia/Krasnoyarsk:20250926T140000
DTEND;TZID=Asia/Krasnoyarsk:20250926T160000
DTSTAMP:20260420T114537
CREATED:20250926T034733Z
LAST-MODIFIED:20250926T034735Z
UID:18169-1758895200-1758902400@www.if.nu.ac.th
SUMMARY:เสวนาสาธารณะ "GR: From the classical to quantum perspective" - Dirac Medal 2025
DESCRIPTION:Play
URL:https://www.if.nu.ac.th/event/%e0%b9%80%e0%b8%aa%e0%b8%a7%e0%b8%99%e0%b8%b2%e0%b8%aa%e0%b8%b2%e0%b8%98%e0%b8%b2%e0%b8%a3%e0%b8%93%e0%b8%b0-gr-from-the-classical-to-quantum-perspective-dirac-medal-2025/
LOCATION:Academia Room (TA212)\, 2nd Floor\, Mahadhammaraja A Building\, Phitsanulok\, 6500\, Thailand
END:VEVENT
BEGIN:VEVENT
DTSTART;TZID=Asia/Krasnoyarsk:20250829T020000
DTEND;TZID=Asia/Krasnoyarsk:20250829T033000
DTSTAMP:20260420T114537
CREATED:20250827T040309Z
LAST-MODIFIED:20250827T043641Z
UID:18107-1756432800-1756438200@www.if.nu.ac.th
SUMMARY:No.35 IF Colloquium - Almost ΛCDM Models and Dynamical Dark Energy
DESCRIPTION: 
URL:https://www.if.nu.ac.th/event/no-35-if-colloquium-almost-%ce%bbcdm-models-and-dynamical-dark-energy/
LOCATION:Academia Room (TA212)\, 2nd Floor\, Mahadhammaraja A Building\, Phitsanulok\, 6500\, Thailand
ATTACH;FMTTYPE=image/webp:https://www.if.nu.ac.th/wp-content/uploads/2025/08/IF-Colloquium.webp
END:VEVENT
BEGIN:VEVENT
DTSTART;VALUE=DATE:20250818
DTEND;VALUE=DATE:20250820
DTSTAMP:20260420T114537
CREATED:20250708T085625Z
LAST-MODIFIED:20250708T085625Z
UID:17096-1755475200-1755647999@www.if.nu.ac.th
SUMMARY:Science Week
DESCRIPTION:Test
URL:https://www.if.nu.ac.th/event/science-week/
END:VEVENT
BEGIN:VEVENT
DTSTART;VALUE=DATE:20250802
DTEND;VALUE=DATE:20250804
DTSTAMP:20260420T114537
CREATED:20250724T021615Z
LAST-MODIFIED:20250724T021946Z
UID:17457-1754092800-1754265599@www.if.nu.ac.th
SUMMARY:WORLD ROBOT OLYMPIAD 2025 (THAILAND) / ระดับภูมิภาคเหนือ
DESCRIPTION:otm \n 
URL:https://www.if.nu.ac.th/event/world-robot-olympiad-2025-thailand-%e0%b8%a3%e0%b8%b0%e0%b8%94%e0%b8%b1%e0%b8%9a%e0%b8%a0%e0%b8%b9%e0%b8%a1%e0%b8%b4%e0%b8%a0%e0%b8%b2%e0%b8%84%e0%b9%80%e0%b8%ab%e0%b8%99%e0%b8%b7%e0%b8%ad/
LOCATION:King Naresuan the Great Exhibition and Convention Center\, 99 หมู่ 9 ตำบลท่าโพธิ์ อ.เมืองพิษณุโลก จ.พิษณุโลก 65000\, Phitsanulok\, Phitsanulok\, 65000\, Thailand
ORGANIZER;CN="The Institute for Fundamental Study":MAILTO:if@nu.ac.th
END:VEVENT
END:VCALENDAR