BEGIN:VCALENDAR
VERSION:2.0
PRODID:-//The Institute for Fundamental Study - ECPv6.15.20//NONSGML v1.0//EN
CALSCALE:GREGORIAN
METHOD:PUBLISH
X-ORIGINAL-URL:https://www.if.nu.ac.th
X-WR-CALDESC:Events for The Institute for Fundamental Study
REFRESH-INTERVAL;VALUE=DURATION:PT1H
X-Robots-Tag:noindex
X-PUBLISHED-TTL:PT1H
BEGIN:VTIMEZONE
TZID:Asia/Krasnoyarsk
BEGIN:STANDARD
TZOFFSETFROM:+0700
TZOFFSETTO:+0700
TZNAME:+07
DTSTART:20250101T000000
END:STANDARD
END:VTIMEZONE
BEGIN:VEVENT
DTSTART;TZID=Asia/Krasnoyarsk:20260528T090000
DTEND;TZID=Asia/Krasnoyarsk:20260528T163000
DTSTAMP:20260420T020930
CREATED:20251107T023356Z
LAST-MODIFIED:20260205T074817Z
UID:19443-1779958800-1779985800@www.if.nu.ac.th
SUMMARY:📋 ประชุมคณะกรรมการประจำวิทยาลัย 8/2569
DESCRIPTION:
URL:https://www.if.nu.ac.th/event/%f0%9f%91%a5-%e0%b8%9b%e0%b8%a3%e0%b8%b0%e0%b8%8a%e0%b8%b8%e0%b8%a1%e0%b8%84%e0%b8%93%e0%b8%b0%e0%b8%81%e0%b8%a3%e0%b8%a3%e0%b8%a1%e0%b8%81%e0%b8%b2%e0%b8%a3%e0%b8%9b%e0%b8%a3%e0%b8%b0%e0%b8%88-4/
CATEGORIES:Next Event
END:VEVENT
BEGIN:VEVENT
DTSTART;TZID=Asia/Krasnoyarsk:20260606T090000
DTEND;TZID=Asia/Krasnoyarsk:20260608T163000
DTSTAMP:20260420T020930
CREATED:20251106T081118Z
LAST-MODIFIED:20260223T033602Z
UID:19414-1780736400-1780936200@www.if.nu.ac.th
SUMMARY:🎓 โครงการพัฒนาศักยภาพนิสิตระดับบัณฑิตศึกษา
DESCRIPTION:
URL:https://www.if.nu.ac.th/event/%f0%9f%8e%93-%e0%b9%82%e0%b8%84%e0%b8%a3%e0%b8%87%e0%b8%81%e0%b8%b2%e0%b8%a3%e0%b8%9e%e0%b8%b1%e0%b8%92%e0%b8%99%e0%b8%b2%e0%b8%a8%e0%b8%b1%e0%b8%81%e0%b8%a2%e0%b8%a0%e0%b8%b2%e0%b8%9e%e0%b8%99/
CATEGORIES:Next Event
END:VEVENT
BEGIN:VEVENT
DTSTART;TZID=Asia/Krasnoyarsk:20260610T090000
DTEND;TZID=Asia/Krasnoyarsk:20260616T163000
DTSTAMP:20260420T020930
CREATED:20251107T023803Z
LAST-MODIFIED:20260401T042119Z
UID:19445-1781082000-1781627400@www.if.nu.ac.th
SUMMARY:🌍 SHEAP 2026: International School on High-Energy and Astro-Physics
DESCRIPTION:SHEAP2026\n\n\n\nThe SHEAP 2026 is an intensive academic program hosted by the Institute for Fundamental Study (IF). The school aims to provide a comprehensive bridge for advanced undergraduate and graduate students into the frontiers of High-Energy Physics and Astrophysics\, focusing on the mathematical structures and physical implications of modified gravity. \n\n\n\nhttps://indico.global/e/sheap2026 \n\n\n\n\n\nSchedule\n\n\n\n All School\n\n\n\n\n\n\n\n\n\n📅 Event Details\n\n\n\n\n\n\nDate: June 10 – 16\, 2026\n\n\n\nVenue: The Institute for Fundamental Study (IF)\, Naresuan University\, Phitsanulok\, Thailand\n\n\n\n\n\n\n\n\n\n\n⚛️ Scientific Scope & Key Topics\n \n\n\n\n\n\nFundamental Reviews \n\n\n\nReview of GR\, Field Theory\, Cosmology\, and Constraint Analysis. \n\n\n\n\n\nMathematical Foundations \n\n\n\nStability and Causality in gravity\, and the Cauchy problem in modified gravity theories. \n\n\n\n\n\nModern Gravity Theories \n\n\n\nScalar-Tensor theory\, Horndeski theory\, GLPV theories\, DHOST\, U-DHOST\, and Minimal Modified Gravity (MMG). \n\n\n\n\n\nEffective Field Theory (EFT) \n\n\n\nGoldstone Bosons\, EFT of Inflation\, Dark Energy\, and its applications in modern physics. \n\n\n\n\n\n\n\n\n\n\n\n\n✍🏻 Registration & Fees\n \n\n\n\n\n\n Targets \n\n\n\nCapacity: 40 participants (The list of selected participants will be announced later for confirmation.) \n\n\n\nThe school welcomes undergraduate seniors and graduate students (Master’s and Ph.D.) with a strong interest in theoretical physics. \n\n\n\n\n\n Dorm \n\n\n\nAccommodation: * On-campus dormitory service at Naresuan University. \n\n\n\nRoom Format: Shared rooms with other participants (4 people per room\, separated by gender). \n\n\n\nStay period: From the night of June 10 – 15\, 2026. \n\n\n\n\n\n Media Recording \n\n\n\nPlease be informed that photos and videos may be taken during the program for public relations\, media materials\, and official performance reports across various channels. \n\n\n\n\n\n Travel Expenses \n\n\n\nParticipants are responsible for their own travel costs. \n\n\n\n\n\nRegisterConfirmation\n\nSoon \n\n\n\n\n\nAdd your content here… \n\n\n\n\n\n\n\n\n\n\n\n\n✨ Program Highlights\n \n\n\n\n\n\n\nIntensive Lectures \n\n\n\nDeep dives into theoretical frameworks by leading global experts. \n\n\n\n\n\n\n\nHands-on Tutorials \n\n\n\nEvening sessions to solve problems and reinforce lecture concepts (Led by: North\, Ratch\, A\, Ngung). \n\n\n\n\n\n\n\nStudent Research \n\n\n\nDedicated “Students Talk” sessions for participants to present their work. \n\n\n\n\n\n\n\n\n\n\n\n\n\n\n\n🎙️ Key Speakers & Instructors\n \n\n\n\n\n\n\nProf. Eugeny Babichev IJCLab\, Université Paris-Saclay\, France\n\n\n\nProf. Antonio de Felice Yukawa Institute for Theoretical Physics\, Kyoto University\, Japan\n\n\n\nDr. Apimook Watcharangkool NARIT\n\n\n\nDr. Vicharit Yingcharoenrat Department of Physics\, Chulalongkorn University\n\n\n\n\n\n\n\nAssoc. Prof. Dr. Pitayuth Wongjun IF\, Naresuan University\n\n\n\nAssoc. Prof. Dr. Khamphee Karwan IF\, Naresuan University\n\n\n\nAssoc. Prof. Dr. Sikarin Yoo-Kong IF\, Naresuan University\n\n\n\nAsst. Prof. Dr. Pichet Vanichchapongjaroen IF\, Naresuan University\n\n\n\nDr. Pongwit Srisangyingcharoen IF\, Naresuan University\n\n\n\n\n\n\n\n\n\n\n\n\n\n\n    \n    \n\n    \n        \n        📌\n        \n            IF – Naresuan University\n            Tha Pho\, Phitsanulok\n            Click to open Maps ↗\n        \n    \n\n\n\n\n\n\n\n\n\n \n\n\n\n\nDream Big. Study Fundamental Physics \n\n\n\n\nADMISSION DETAILS
URL:https://www.if.nu.ac.th/event/sheap-2026/
CATEGORIES:Next Event
ATTACH;FMTTYPE=image/webp:https://www.if.nu.ac.th/wp-content/uploads/2026/03/Frame-24.webp
END:VEVENT
BEGIN:VEVENT
DTSTART;TZID=Asia/Krasnoyarsk:20260618T090000
DTEND;TZID=Asia/Krasnoyarsk:20260618T163000
DTSTAMP:20260420T020930
CREATED:20251107T024010Z
LAST-MODIFIED:20260205T074817Z
UID:19448-1781773200-1781800200@www.if.nu.ac.th
SUMMARY:🧠 โครงการ We Learn
DESCRIPTION:
URL:https://www.if.nu.ac.th/event/%f0%9f%a7%a0-%e0%b9%82%e0%b8%84%e0%b8%a3%e0%b8%87%e0%b8%81%e0%b8%b2%e0%b8%a3-we-learn/
CATEGORIES:Next Event
END:VEVENT
BEGIN:VEVENT
DTSTART;TZID=Asia/Krasnoyarsk:20260619T090000
DTEND;TZID=Asia/Krasnoyarsk:20260619T163000
DTSTAMP:20260420T020930
CREATED:20251107T024139Z
LAST-MODIFIED:20260205T074816Z
UID:19450-1781859600-1781886600@www.if.nu.ac.th
SUMMARY:🗂️ โครงการจัดการความรู้ (KM)
DESCRIPTION:
URL:https://www.if.nu.ac.th/event/%f0%9f%97%82%ef%b8%8f-%e0%b9%82%e0%b8%84%e0%b8%a3%e0%b8%87%e0%b8%81%e0%b8%b2%e0%b8%a3%e0%b8%88%e0%b8%b1%e0%b8%94%e0%b8%81%e0%b8%b2%e0%b8%a3%e0%b8%84%e0%b8%a7%e0%b8%b2%e0%b8%a1%e0%b8%a3%e0%b8%b9/
CATEGORIES:Next Event
END:VEVENT
BEGIN:VEVENT
DTSTART;TZID=Asia/Krasnoyarsk:20260703T090000
DTEND;TZID=Asia/Krasnoyarsk:20260703T163000
DTSTAMP:20260420T020930
CREATED:20251107T024538Z
LAST-MODIFIED:20260205T074816Z
UID:19454-1783069200-1783096200@www.if.nu.ac.th
SUMMARY:🏫 โครงการปฐมนิเทศนิสิต
DESCRIPTION:
URL:https://www.if.nu.ac.th/event/%f0%9f%8f%ab-%e0%b9%82%e0%b8%84%e0%b8%a3%e0%b8%87%e0%b8%81%e0%b8%b2%e0%b8%a3%e0%b8%9b%e0%b8%90%e0%b8%a1%e0%b8%99%e0%b8%b4%e0%b9%80%e0%b8%97%e0%b8%a8%e0%b8%99%e0%b8%b4%e0%b8%aa%e0%b8%b4%e0%b8%95/
CATEGORIES:Next Event
END:VEVENT
BEGIN:VEVENT
DTSTART;TZID=Asia/Krasnoyarsk:20260711T090000
DTEND;TZID=Asia/Krasnoyarsk:20260712T163000
DTSTAMP:20260420T020930
CREATED:20251107T025017Z
LAST-MODIFIED:20260205T074816Z
UID:19456-1783760400-1783873800@www.if.nu.ac.th
SUMMARY:📐 โครงการคณิตกรณ์ควอนตัม
DESCRIPTION:
URL:https://www.if.nu.ac.th/event/%f0%9f%93%90-%e0%b9%82%e0%b8%84%e0%b8%a3%e0%b8%87%e0%b8%81%e0%b8%b2%e0%b8%a3%e0%b8%84%e0%b8%93%e0%b8%b4%e0%b8%95%e0%b8%81%e0%b8%a3%e0%b8%93%e0%b9%8c%e0%b8%84%e0%b8%a7%e0%b8%ad%e0%b8%99%e0%b8%95/
CATEGORIES:Next Event
END:VEVENT
BEGIN:VEVENT
DTSTART;TZID=Asia/Krasnoyarsk:20260817T090000
DTEND;TZID=Asia/Krasnoyarsk:20260818T163000
DTSTAMP:20260420T020930
CREATED:20251107T030215Z
LAST-MODIFIED:20260205T074816Z
UID:19462-1786957200-1787070600@www.if.nu.ac.th
SUMMARY:🧬 โครงการสัปดาห์วิทยาศาสตร์
DESCRIPTION:
URL:https://www.if.nu.ac.th/event/%f0%9f%a7%ac-%e0%b9%82%e0%b8%84%e0%b8%a3%e0%b8%87%e0%b8%81%e0%b8%b2%e0%b8%a3%e0%b8%aa%e0%b8%b1%e0%b8%9b%e0%b8%94%e0%b8%b2%e0%b8%ab%e0%b9%8c%e0%b8%a7%e0%b8%b4%e0%b8%97%e0%b8%a2%e0%b8%b2%e0%b8%a8/
CATEGORIES:Next Event
END:VEVENT
BEGIN:VEVENT
DTSTART;TZID=Asia/Krasnoyarsk:20260829T090000
DTEND;TZID=Asia/Krasnoyarsk:20260830T163000
DTSTAMP:20260420T020930
CREATED:20251107T030623Z
LAST-MODIFIED:20260205T074816Z
UID:19466-1787994000-1788107400@www.if.nu.ac.th
SUMMARY:🗝️ Green’s function in physics
DESCRIPTION:
URL:https://www.if.nu.ac.th/event/%f0%9f%97%9d%ef%b8%8f-greens-function-in-physics/
CATEGORIES:Next Event
END:VEVENT
BEGIN:VEVENT
DTSTART;TZID=Asia/Krasnoyarsk:20260911T090000
DTEND;TZID=Asia/Krasnoyarsk:20260911T163000
DTSTAMP:20260420T020930
CREATED:20251107T030820Z
LAST-MODIFIED:20260205T074815Z
UID:19468-1789117200-1789144200@www.if.nu.ac.th
SUMMARY:✅ โครงการประกันคุณภาพ หลักสูตร
DESCRIPTION:
URL:https://www.if.nu.ac.th/event/%f0%9f%93%8b-%e0%b9%82%e0%b8%84%e0%b8%a3%e0%b8%87%e0%b8%81%e0%b8%b2%e0%b8%a3%e0%b8%9b%e0%b8%a3%e0%b8%b0%e0%b8%81%e0%b8%b1%e0%b8%99%e0%b8%84%e0%b8%b8%e0%b8%93%e0%b8%a0%e0%b8%b2%e0%b8%9e-%e0%b8%ab/
CATEGORIES:Next Event
END:VEVENT
END:VCALENDAR