BEGIN:VCALENDAR
VERSION:2.0
PRODID:-//The Institute for Fundamental Study - ECPv6.15.20//NONSGML v1.0//EN
CALSCALE:GREGORIAN
METHOD:PUBLISH
X-ORIGINAL-URL:https://www.if.nu.ac.th
X-WR-CALDESC:Events for The Institute for Fundamental Study
REFRESH-INTERVAL;VALUE=DURATION:PT1H
X-Robots-Tag:noindex
X-PUBLISHED-TTL:PT1H
BEGIN:VTIMEZONE
TZID:Asia/Krasnoyarsk
BEGIN:STANDARD
TZOFFSETFROM:+0700
TZOFFSETTO:+0700
TZNAME:+07
DTSTART:20240101T000000
END:STANDARD
END:VTIMEZONE
BEGIN:VEVENT
DTSTART;TZID=Asia/Krasnoyarsk:20251114T090000
DTEND;TZID=Asia/Krasnoyarsk:20251114T163000
DTSTAMP:20260420T141735
CREATED:20251106T073522Z
LAST-MODIFIED:20251106T073558Z
UID:19388-1763110800-1763137800@www.if.nu.ac.th
SUMMARY:🏆 โครงการประกันคุณภาพ ระดับคณะ/วิทยาลัย EdPEx
DESCRIPTION:
URL:https://www.if.nu.ac.th/event/%f0%9f%8f%86%e0%b9%82%e0%b8%84%e0%b8%a3%e0%b8%87%e0%b8%81%e0%b8%b2%e0%b8%a3%e0%b8%9b%e0%b8%a3%e0%b8%b0%e0%b8%81%e0%b8%b1%e0%b8%99%e0%b8%84%e0%b8%b8%e0%b8%93%e0%b8%a0%e0%b8%b2%e0%b8%9e-%e0%b8%a3/
END:VEVENT
BEGIN:VEVENT
DTSTART;TZID=Asia/Krasnoyarsk:20251128T133000
DTEND;TZID=Asia/Krasnoyarsk:20251128T153000
DTSTAMP:20260420T141735
CREATED:20251124T071403Z
LAST-MODIFIED:20251126T082846Z
UID:19685-1764336600-1764343800@www.if.nu.ac.th
SUMMARY:📖 Tah Poe Seminar - Series 58 No.7
DESCRIPTION:Duality-symmetric D3-brane action with twisted self-dual 2-form doublet
URL:https://www.if.nu.ac.th/event/%f0%9f%93%96-tah-poe-seminar-series-58-no-6/
END:VEVENT
END:VCALENDAR